BEGIN:VCALENDAR
VERSION:2.0
PRODID:-//Redmidia - ECPv6.15.20//NONSGML v1.0//EN
CALSCALE:GREGORIAN
METHOD:PUBLISH
X-ORIGINAL-URL:https://redmidia.com
X-WR-CALDESC:Eventos para Redmidia
REFRESH-INTERVAL;VALUE=DURATION:PT1H
X-Robots-Tag:noindex
X-PUBLISHED-TTL:PT1H
BEGIN:VTIMEZONE
TZID:America/Chicago
BEGIN:DAYLIGHT
TZOFFSETFROM:-0600
TZOFFSETTO:-0500
TZNAME:CDT
DTSTART:20180311T080000
END:DAYLIGHT
BEGIN:STANDARD
TZOFFSETFROM:-0500
TZOFFSETTO:-0600
TZNAME:CST
DTSTART:20181104T070000
END:STANDARD
BEGIN:DAYLIGHT
TZOFFSETFROM:-0600
TZOFFSETTO:-0500
TZNAME:CDT
DTSTART:20190310T080000
END:DAYLIGHT
BEGIN:STANDARD
TZOFFSETFROM:-0500
TZOFFSETTO:-0600
TZNAME:CST
DTSTART:20191103T070000
END:STANDARD
BEGIN:DAYLIGHT
TZOFFSETFROM:-0600
TZOFFSETTO:-0500
TZNAME:CDT
DTSTART:20200308T080000
END:DAYLIGHT
BEGIN:STANDARD
TZOFFSETFROM:-0500
TZOFFSETTO:-0600
TZNAME:CST
DTSTART:20201101T070000
END:STANDARD
BEGIN:DAYLIGHT
TZOFFSETFROM:-0600
TZOFFSETTO:-0500
TZNAME:CDT
DTSTART:20210314T080000
END:DAYLIGHT
BEGIN:STANDARD
TZOFFSETFROM:-0500
TZOFFSETTO:-0600
TZNAME:CST
DTSTART:20211107T070000
END:STANDARD
END:VTIMEZONE
BEGIN:VTIMEZONE
TZID:America/Danmarkshavn
BEGIN:STANDARD
TZOFFSETFROM:+0000
TZOFFSETTO:+0000
TZNAME:GMT
DTSTART:20180101T000000
END:STANDARD
END:VTIMEZONE
BEGIN:VEVENT
DTSTART;TZID=America/Chicago:20200816T080000
DTEND;TZID=America/Chicago:20200820T170000
DTSTAMP:20260425T153100
CREATED:20180714T032809Z
LAST-MODIFIED:20180714T032809Z
UID:9258-1597564800-1597942800@redmidia.com
SUMMARY:World’s Poultry Congress 2020
DESCRIPTION:The scientific program will be built with WPSA working groups from European Federation and Asia-Pacific Federation.
URL:https://redmidia.com/eventos/worlds-poultry-congress-2020/
LOCATION:Palais de Congrès\, París\, France
CATEGORIES:Avicultura
END:VEVENT
BEGIN:VEVENT
DTSTART;TZID=America/Chicago:20200602T080000
DTEND;TZID=America/Chicago:20200605T170000
DTSTAMP:20260425T153100
CREATED:20191126T001408Z
LAST-MODIFIED:20191126T001408Z
UID:13755-1591084800-1591376400@redmidia.com
SUMMARY:26th IPVS Congress
DESCRIPTION:Brazilian Association of Swine Veterinary Specialists\, we are pleased to invite you to come to Brazil\, to the wonderful city of Rio de Janeiro\, to attend the 26th IPVS Congress to be held from June 2nd to 5th\, 2020.
URL:https://redmidia.com/eventos/26th-ipvs-congress/
LOCATION:Rio de Janeiro\, Rio de Janeiro\, Rio de Janeiro\, Brazil
CATEGORIES:Porcicultura
ATTACH;FMTTYPE=image/jpeg:https://redmidia.com/wp-content/uploads/2019/11/ipvs.jpg
END:VEVENT
BEGIN:VEVENT
DTSTART;VALUE=DATE:20200512
DTEND;VALUE=DATE:20200515
DTSTAMP:20260425T153100
CREATED:20180929T122556Z
LAST-MODIFIED:20180929T122556Z
UID:10342-1589241600-1589500799@redmidia.com
SUMMARY:Avícola en conjunto con Porcinos 2020
DESCRIPTION:
URL:https://redmidia.com/eventos/avicola-en-conjunto-con-porcinos-2020/
LOCATION:Centro Costa Salguero\, Buenos Aires\, Argentina
CATEGORIES:Avicultura
END:VEVENT
BEGIN:VEVENT
DTSTART;VALUE=DATE:20200512
DTEND;VALUE=DATE:20200515
DTSTAMP:20260425T153100
CREATED:20180915T235032Z
LAST-MODIFIED:20180915T235032Z
UID:10121-1589241600-1589500799@redmidia.com
SUMMARY:Avícola 2020
DESCRIPTION:
URL:https://redmidia.com/eventos/avicola-2020/
LOCATION:Centro Costa Salguero\, Buenos Aires\, Argentina
CATEGORIES:Avicultura
END:VEVENT
BEGIN:VEVENT
DTSTART;TZID=America/Chicago:20200428T080000
DTEND;TZID=America/Chicago:20200429T170000
DTSTAMP:20260425T153100
CREATED:20191126T213047Z
LAST-MODIFIED:20191126T224041Z
UID:13775-1588060800-1588179600@redmidia.com
SUMMARY:II Congreso Nacional de Fabricantes de Alimentos Balanceados para Animales
DESCRIPTION:La Coordinadora Nacional de Organismos de la Industria de Alimentos Balanceados para Animales\, a través de las organizaciones que la conforman AMEPA\, ANFACA y CONAFAB\, organizan este congreso con el fin de presentar la importancia y situación actual de la Industria de Alimentos Balanceados en México. \nhttp://www.conafab.org/informativos/eventos
URL:https://redmidia.com/eventos/ii-congreso-nacional-de-fabricantes-de-alimentos-balanceados-para-animales/
LOCATION:Expo Guadalajara\, Verde Valle\, Guadalajara\, Jalisco\, Mexico
CATEGORIES:Veterinaria
ATTACH;FMTTYPE=image/jpeg:https://redmidia.com/wp-content/uploads/2019/11/expo-guadalajara.jpg
END:VEVENT
BEGIN:VEVENT
DTSTART;VALUE=DATE:20200407
DTEND;VALUE=DATE:20200410
DTSTAMP:20260425T153100
CREATED:20180916T000858Z
LAST-MODIFIED:20180916T000858Z
UID:10157-1586217600-1586476799@redmidia.com
SUMMARY:Livestok Asia 2020
DESCRIPTION:
URL:https://redmidia.com/eventos/livestok-asia-2020/
LOCATION:Melaka International Trade Centre\, Malacca\, Malaysia
CATEGORIES:Porcicultura
END:VEVENT
BEGIN:VEVENT
DTSTART;TZID=America/Chicago:20200325T080000
DTEND;TZID=America/Chicago:20200327T170000
DTSTAMP:20260425T153100
CREATED:20191120T025830Z
LAST-MODIFIED:20191120T025830Z
UID:13659-1585123200-1585328400@redmidia.com
SUMMARY:Mediterranean Poultry Summit 2020
DESCRIPTION:La próxima “Mediterranean Poultry Summit” – MPS – tendrá lugar por primera vez en España en la población de Córdoba\, durante los días 25 al 27 de marzo del 2020. Este tipo de eventos se inició en Chalkidiki – Grecia – en el año 2008\, habiéndose celebrado posteriormente en Antalya – Turquía – en el 2009 y luego ya de forma bienal en Alejandría – Egipto -\, Beirut – Líbano -\, en un crucero a lo largo de 3 países – Italia\, España y Francia – y Turín – Italia -. \nSe trata pues de la 7ª convocatoria de esta “Cumbre Avícola Mediterránea” que tiene por objetivo tratar de los principales problemas que afectan a los sectores avícolas de este región. \nEl lugar de la celebración será la Universidad de Córdoba y la presidencia del Comité Organizador ha recaído en el actual Presidente de la Rama Española de la WPSA\, el Prof. Carlos Garcés Narro
URL:https://redmidia.com/eventos/mediterranean-poultry-summit-2020/
LOCATION:Universidad de Córdoba\, Córdoba\, Spain
CATEGORIES:Avicultura
ATTACH;FMTTYPE=image/jpeg:https://redmidia.com/wp-content/uploads/2019/11/mediterranean.jpg
END:VEVENT
BEGIN:VEVENT
DTSTART;TZID=America/Chicago:20200307T080000
DTEND;TZID=America/Chicago:20200310T170000
DTSTAMP:20260425T153100
CREATED:20191126T000704Z
LAST-MODIFIED:20191126T000704Z
UID:13751-1583568000-1583859600@redmidia.com
SUMMARY:51ª Reunión Anual de AASV
DESCRIPTION:2020: A Vision for the Future\n 
URL:https://redmidia.com/eventos/51a-reunion-anual-de-aasv/
LOCATION:Hyatt Regency\, Georgia\, United States
CATEGORIES:Porcicultura
ATTACH;FMTTYPE=image/jpeg:https://redmidia.com/wp-content/uploads/2019/11/aasv_2020.jpg
END:VEVENT
BEGIN:VEVENT
DTSTART;TZID=America/Chicago:20200226T080000
DTEND;TZID=America/Chicago:20200228T170000
DTSTAMP:20260425T153100
CREATED:20191120T031803Z
LAST-MODIFIED:20191120T031952Z
UID:13671-1582704000-1582909200@redmidia.com
SUMMARY:Convención Anual de la Industria Cárnica 2020
DESCRIPTION:El Consejo Mexicano de la Carne (COMECARNE)\, llevará a cabo del 26 al 28 de febrero la Convención Anual de la Industria Cárnica 2020 en Los Cabos\, Baja California. Evento que reunirá a expertos de la industria y en el cual se realizarán ponencias y encuentros dirigidos a líderes de este sector
URL:https://redmidia.com/eventos/convencion-anual-de-la-industria-carnica-2020/
LOCATION:Los Cabos\, Los Cabos\, Baja California\, Mexico
CATEGORIES:Veterinaria
ATTACH;FMTTYPE=image/jpeg:https://redmidia.com/wp-content/uploads/2019/11/industria-carnica.jpg
END:VEVENT
BEGIN:VEVENT
DTSTART;TZID=America/Chicago:20200226T080000
DTEND;TZID=America/Chicago:20200227T170000
DTSTAMP:20260425T153100
CREATED:20191120T024947Z
LAST-MODIFIED:20191120T024947Z
UID:13653-1582704000-1582822800@redmidia.com
SUMMARY:14vo Curso de Procesamiento e Inocuidad de Productos Avícolas
DESCRIPTION:Temas: \nCalidad de la Carne \nInocuidad de productos cárnicos \nIntervenciones antimicrobianas \nManejo Ante-mortem \nMarketing \nValor Agregado \n 
URL:https://redmidia.com/eventos/14vo-curso-de-procesamiento-e-inocuidad-de-productos-avicolas/
LOCATION:Hotel Hacienda Jurica\, Querétaro\, Qurétaro\, Mexico
CATEGORIES:Avicultura
ATTACH;FMTTYPE=image/jpeg:https://redmidia.com/wp-content/uploads/2019/11/procesamiento-e-inocuidad-2.jpg
END:VEVENT
BEGIN:VEVENT
DTSTART;TZID=America/Chicago:20200221T080000
DTEND;TZID=America/Chicago:20200223T170000
DTSTAMP:20260425T153100
CREATED:20191121T004533Z
LAST-MODIFIED:20191121T004533Z
UID:13683-1582272000-1582477200@redmidia.com
SUMMARY:Congreso Mundial de Ganadería Tropical
DESCRIPTION:El Congreso Mundial de Ganadería Tropical tiene como objetivo principal reunir al sector ganadero nacional e internacional que comparten el interés en temas de: Genética\, Reproducción\, Nutrición\, Producción de leche\, Manejo de praderas\, Conservación de suelos y Uso eficiente del agua…
URL:https://redmidia.com/eventos/congreso-mundial-de-ganaderia-tropical/
LOCATION:París
CATEGORIES:Ganadería
ATTACH;FMTTYPE=image/jpeg:https://redmidia.com/wp-content/uploads/2019/11/vii-congreso-mundial-ganaderia.jpg
END:VEVENT
BEGIN:VEVENT
DTSTART;TZID=America/Chicago:20200205T080000
DTEND;TZID=America/Chicago:20200207T170000
DTSTAMP:20260425T153100
CREATED:20191120T035604Z
LAST-MODIFIED:20191120T035604Z
UID:13679-1580889600-1581094800@redmidia.com
SUMMARY:Expo AgroSinaloa
DESCRIPTION:Expo Agro Sinaloa es un foro generados de negocios y el lugar ideal para exhibir los productos y servicios de las empresas que año tras año confían en la calidad de la muestra agrícola más importante del noroeste de México
URL:https://redmidia.com/eventos/expo-agrosinaloa/
LOCATION:Centro de Innovación de Fundación Produce\, Aguaruto\, Culiacán\, Sinaloa\, Mexico
CATEGORIES:Veterinaria
ATTACH;FMTTYPE=image/jpeg:https://redmidia.com/wp-content/uploads/2019/11/agro-sinaloa.jpg
END:VEVENT
BEGIN:VEVENT
DTSTART;TZID=America/Chicago:20200205T080000
DTEND;TZID=America/Chicago:20200207T170000
DTSTAMP:20260425T153100
CREATED:20191120T035154Z
LAST-MODIFIED:20191120T035154Z
UID:13675-1580889600-1581094800@redmidia.com
SUMMARY:XXVI Ciclo de Conferencias AMVECAJ 2020
DESCRIPTION:
URL:https://redmidia.com/eventos/xxvi-ciclo-de-conferencias-amvecaj-2020/
LOCATION:Tepatitlán\, Tepatitlán\, Jalisco\, Mexico
CATEGORIES:Porcicultura
ATTACH;FMTTYPE=image/jpeg:https://redmidia.com/wp-content/uploads/2019/11/conferencias.jpg
END:VEVENT
BEGIN:VEVENT
DTSTART;TZID=America/Chicago:20200129T080000
DTEND;TZID=America/Chicago:20200131T170000
DTSTAMP:20260425T153100
CREATED:20191201T230040Z
LAST-MODIFIED:20191201T230040Z
UID:13779-1580284800-1580490000@redmidia.com
SUMMARY:Convención Nacional de la FedMVZ 2020
DESCRIPTION:En el marco de este evento se llevarán a cabo Conferencias Magistrales de interés para gremio Veterinario\, es un evento que brinda la oportunidad de interactuar a los Médicos Veterinarios con colegas de todo el país\, con la industria farmacéutica\, y con los líderes tanto del sector público nacional\, estatal y privado. Además\, por segundo año consecutivo se entregaran los Premios de la 2da edición del Concurso de Fotografía: El Médico Veterinario Zootecnista y El Bienestar Animal.
URL:https://redmidia.com/eventos/convencion-nacional-de-la-fedmvz-2020/
LOCATION:Palacio de Convenciones Zacatecas\, Zacatecas\, Zacatecas\, Mexico
CATEGORIES:Veterinaria
ATTACH;FMTTYPE=image/jpeg:https://redmidia.com/wp-content/uploads/2019/12/fedmvz.jpg
END:VEVENT
BEGIN:VEVENT
DTSTART;TZID=America/Chicago:20200113T080000
DTEND;TZID=America/Chicago:20200115T170000
DTSTAMP:20260425T153100
CREATED:20191126T000126Z
LAST-MODIFIED:20191126T000126Z
UID:13748-1578902400-1579107600@redmidia.com
SUMMARY:World Mycotoxin Forum -  WMFmeetsASIA
DESCRIPTION:The aim of WMFmeetsASIA – the world’s largest mycotoxin event – is to increase the awareness of human and animal health risks due to mycotoxin contamination
URL:https://redmidia.com/eventos/world-mycotoxin-forum-wmfmeetsasia/
LOCATION:París
CATEGORIES:Veterinaria
ATTACH;FMTTYPE=image/jpeg:https://redmidia.com/wp-content/uploads/2019/11/wmf.jpg
END:VEVENT
BEGIN:VEVENT
DTSTART;TZID=America/Chicago:20200107T080000
DTEND;TZID=America/Chicago:20200109T170000
DTSTAMP:20260425T153100
CREATED:20191120T031006Z
LAST-MODIFIED:20191120T031006Z
UID:13663-1578384000-1578589200@redmidia.com
SUMMARY:Banff Pork Seminar
DESCRIPTION:Reunión de la transferencia de tecnología para la industria de la carne de cerdo que se ha celebrado en Banff \, Alberta\, Canadá desde 1972
URL:https://redmidia.com/eventos/banff-pork-seminar/
LOCATION:Banff\, Alberta\, Canada
CATEGORIES:Porcicultura
ATTACH;FMTTYPE=image/jpeg:https://redmidia.com/wp-content/uploads/2019/11/bannf-pork.jpg
END:VEVENT
BEGIN:VEVENT
DTSTART;TZID=America/Chicago:20191129T080000
DTEND;TZID=America/Chicago:20191130T170000
DTSTAMP:20260425T153100
CREATED:20191120T015004Z
LAST-MODIFIED:20191120T015004Z
UID:13649-1575014400-1575133200@redmidia.com
SUMMARY:Primer curso Teórico-Práctico de Anestesia\, Clínica y Cirugía Bovina
DESCRIPTION:
URL:https://redmidia.com/eventos/primer-curso-teorico-practico-de-anestesia-clinica-y-cirugia-bovina/
LOCATION:París
CATEGORIES:Ganadería
ATTACH;FMTTYPE=image/jpeg:https://redmidia.com/wp-content/uploads/2019/11/cirugia.jpg
END:VEVENT
BEGIN:VEVENT
DTSTART;TZID=America/Chicago:20191128T080000
DTEND;TZID=America/Chicago:20191129T180000
DTSTAMP:20260425T153100
CREATED:20191120T012441Z
LAST-MODIFIED:20191120T012441Z
UID:13641-1574928000-1575050400@redmidia.com
SUMMARY:VIII Seminario de Productividad Porcina y Expo Porcicultura Ecuador 2019
DESCRIPTION:Club del Campo \, Km. 4 vía a las Mercedes
URL:https://redmidia.com/eventos/viii-seminario-de-productividad-porcina-y-expo-porcicultura-ecuador-2019/
LOCATION:Santo Domingo de los Tsáchilas\, Ecuador
CATEGORIES:Porcicultura
ATTACH;FMTTYPE=image/jpeg:https://redmidia.com/wp-content/uploads/2019/11/viii-seminario-internacional-ecuador.jpg
END:VEVENT
BEGIN:VEVENT
DTSTART;VALUE=DATE:20191128
DTEND;VALUE=DATE:20191201
DTSTAMP:20260425T153100
CREATED:20180916T000725Z
LAST-MODIFIED:20180916T000725Z
UID:10154-1574899200-1575158399@redmidia.com
SUMMARY:Seminario Internacional de Productividad Porcina & Expo Porcicultura
DESCRIPTION:
URL:https://redmidia.com/eventos/seminario-internacional-de-productividad-porcina-expo-porcicultura/
LOCATION:Grand Hotel Santo Domingo\, Santo Domingo de los Tsáchilas\, Ecuador
END:VEVENT
BEGIN:VEVENT
DTSTART;TZID=America/Chicago:20191127T090000
DTEND;TZID=America/Chicago:20191127T150000
DTSTAMP:20260425T153100
CREATED:20191120T010649Z
LAST-MODIFIED:20191120T011011Z
UID:13637-1574845200-1574866800@redmidia.com
SUMMARY:XVII Congreso Anual Día AMVEC
DESCRIPTION:Taller de necropsias Patología de la Peste Porcina Africana \n 
URL:https://redmidia.com/eventos/xvii-congreso-anual-dia-amvec/
LOCATION:París
CATEGORIES:Veterinaria
ATTACH;FMTTYPE=image/jpeg:https://redmidia.com/wp-content/uploads/2019/11/dia-amvec.jpg
END:VEVENT
BEGIN:VEVENT
DTSTART;TZID=America/Chicago:20191126T163000
DTEND;TZID=America/Chicago:20191126T190000
DTSTAMP:20260425T153100
CREATED:20191120T013558Z
LAST-MODIFIED:20191120T013558Z
UID:13645-1574785800-1574794800@redmidia.com
SUMMARY:Conferencia El Laboratorio como Socio Consultor en Operaciones de Granjas Lecheras
DESCRIPTION:Cupo 130 lugares \nconfiramcioneventos@gaqsa.com \n442 253-0038 ext 121
URL:https://redmidia.com/eventos/conferencia-el-laboratorio-como-socio-consultor-en-operaciones-de-granjas-lecheras/
LOCATION:Circuito El Marqués Sur 1A\, El Coloradp\, Santiago\, Querétaro\, Mexico
CATEGORIES:Ganadería
ATTACH;FMTTYPE=image/jpeg:https://redmidia.com/wp-content/uploads/2019/11/leche.jpg
END:VEVENT
BEGIN:VEVENT
DTSTART;VALUE=DATE:20191017
DTEND;VALUE=DATE:20191020
DTSTAMP:20260425T153100
CREATED:20180916T000623Z
LAST-MODIFIED:20180916T000623Z
UID:10151-1571270400-1571529599@redmidia.com
SUMMARY:Congreso Nacional de Productores Porcícolas
DESCRIPTION:
URL:https://redmidia.com/eventos/congreso-nacional-de-productores-porcicolas/
LOCATION:El complejo hotelero Grupo Vidanta\, Riviera Nayarit\, Mexico
CATEGORIES:Porcicultura
END:VEVENT
BEGIN:VEVENT
DTSTART;VALUE=DATE:20191017
DTEND;VALUE=DATE:20191020
DTSTAMP:20260425T153100
CREATED:20180916T000349Z
LAST-MODIFIED:20180916T000349Z
UID:10148-1571270400-1571529599@redmidia.com
SUMMARY:Pork-Expo AguascalientesPork-Expo Aguascalientes
DESCRIPTION:
URL:https://redmidia.com/eventos/pork-expo-aguascalientespork-expo-aguascalientes/
LOCATION:AGUASCALIENTES\, Mexico
CATEGORIES:Porcicultura
END:VEVENT
BEGIN:VEVENT
DTSTART;VALUE=DATE:20191016
DTEND;VALUE=DATE:20191020
DTSTAMP:20260425T153100
CREATED:20180916T001150Z
LAST-MODIFIED:20180916T001150Z
UID:10163-1571184000-1571529599@redmidia.com
SUMMARY:9th International Conference on Antimicrobial Agents in Veterinary Med
DESCRIPTION:
URL:https://redmidia.com/eventos/9th-international-conference-on-antimicrobial-agents-in-veterinary-med/
LOCATION:NH Villa Carpegna Via Pio IV\,6 | 00165\, Roma\, Italy
CATEGORIES:Ganadería
END:VEVENT
BEGIN:VEVENT
DTSTART;TZID=America/Chicago:20191015T080000
DTEND;TZID=America/Chicago:20191019T170000
DTSTAMP:20260425T153100
CREATED:20191008T231156Z
LAST-MODIFIED:20191008T231156Z
UID:13436-1571126400-1571504400@redmidia.com
SUMMARY:XIX Congreso Bienal AMENA 2019
DESCRIPTION:ACERCA DE \nEl tema central del congreso es “Forjando Nuevos Horizontes en Nutrición Animal”. El Congreso AMENA tiene el objetivo de promover el intercambio de conocimientos y la discusión de resultados de investigación\, validación\, y transferencia de tecnología en materia de nutrición animal y disciplinas afines. \nLa Asociación Mexicana de Especialistas en Nutrición Animal A.C. (AMENA)\, llevará a cabo la XIX edición de su Congreso Bienal del 15 al 19 de octubre de 2019\, en el Sheraton Buganvilias Resort de Puerto Vallarta\, Jalisco. El plan académico del Congreso contempla 10 simposios\, 4 conferencias magistrales plenarias y la presentación oral de trabajos de investigación científica y tecnológica con relación a los temas de cada simposio. \nVer mas en: http://www.amena.mx/
URL:https://redmidia.com/eventos/xix-congreso-bienal-amena-2019/
LOCATION:Hotel Bugambilias\, Puerto Vallarta\, Jalisco\, Mexico
CATEGORIES:Avicultura,Especiales,Ganadería,Porcicultura,Veterinaria
ATTACH;FMTTYPE=image/jpeg:https://redmidia.com/wp-content/uploads/2019/10/congreso-Bienal-AMENA.jpg
END:VEVENT
BEGIN:VEVENT
DTSTART;TZID=America/Chicago:20191008T080000
DTEND;TZID=America/Chicago:20191011T170000
DTSTAMP:20260425T153100
CREATED:20180714T032323Z
LAST-MODIFIED:20180714T032323Z
UID:9252-1570521600-1570813200@redmidia.com
SUMMARY:XXVI Congreso Latinoamericano de Avicultura OVUM 2019
DESCRIPTION:El OVUM 2019 es el 26º Congreso Latinoamericano de Avicultura que se realiza en la ciudad de Lima-Perú. Aunque las fechas todavía no aparecen en la web oficial todo apunta que será del 8 al 11 octubre 2019
URL:https://redmidia.com/eventos/xxvi-congreso-latinoamericano-de-avicultura-ovum-2019/
LOCATION:Lima\, Lima\, Peru
CATEGORIES:Avicultura
END:VEVENT
BEGIN:VEVENT
DTSTART;VALUE=DATE:20191005
DTEND;VALUE=DATE:20191010
DTSTAMP:20260425T153100
CREATED:20180916T000232Z
LAST-MODIFIED:20180916T000245Z
UID:10145-1570233600-1570665599@redmidia.com
SUMMARY:Anuga 2019
DESCRIPTION:
URL:https://redmidia.com/eventos/anuga-2019/
LOCATION:Cologna\, Germany
CATEGORIES:Porcicultura
END:VEVENT
BEGIN:VEVENT
DTSTART;VALUE=DATE:20190927
DTEND;VALUE=DATE:20191004
DTSTAMP:20260425T153100
CREATED:20180916T001030Z
LAST-MODIFIED:20180916T001030Z
UID:10160-1569542400-1570147199@redmidia.com
SUMMARY:Feria Internacional Ganadera Zafra
DESCRIPTION:
URL:https://redmidia.com/eventos/feria-internacional-ganadera-zafra/
LOCATION:Zafra\, Spain
CATEGORIES:Ganadería
END:VEVENT
BEGIN:VEVENT
DTSTART;VALUE=DATE:20190924
DTEND;VALUE=DATE:20190927
DTSTAMP:20260425T153100
CREATED:20180915T234632Z
LAST-MODIFIED:20180915T234632Z
UID:10115-1569283200-1569542399@redmidia.com
SUMMARY:Expomeat
DESCRIPTION:
URL:https://redmidia.com/eventos/expomeat/
LOCATION:Pavilhão de Exposições Anhembi\, Sao Paulo\, Brazil
CATEGORIES:Avicultura
END:VEVENT
BEGIN:VEVENT
DTSTART;TZID=America/Danmarkshavn:20190922T080000
DTEND;TZID=America/Danmarkshavn:20190926T170000
DTSTAMP:20260425T153100
CREATED:20180915T234349Z
LAST-MODIFIED:20180915T234431Z
UID:10112-1569139200-1569517200@redmidia.com
SUMMARY:IEC Global Leadership Conference Copenhagen 2019
DESCRIPTION:
URL:https://redmidia.com/eventos/iec-global-leadership-conference-copenhagen-2019/
LOCATION:Copenhagen\, Copenhagen\, Denmark
CATEGORIES:Avicultura
END:VEVENT
END:VCALENDAR