BEGIN:VCALENDAR
VERSION:2.0
PRODID:-//Redmidia - ECPv6.15.20//NONSGML v1.0//EN
CALSCALE:GREGORIAN
METHOD:PUBLISH
X-WR-CALNAME:Redmidia
X-ORIGINAL-URL:https://redmidia.com
X-WR-CALDESC:Eventos para Redmidia
REFRESH-INTERVAL;VALUE=DURATION:PT1H
X-Robots-Tag:noindex
X-PUBLISHED-TTL:PT1H
BEGIN:VTIMEZONE
TZID:America/Chicago
BEGIN:DAYLIGHT
TZOFFSETFROM:-0600
TZOFFSETTO:-0500
TZNAME:CDT
DTSTART:20180311T080000
END:DAYLIGHT
BEGIN:STANDARD
TZOFFSETFROM:-0500
TZOFFSETTO:-0600
TZNAME:CST
DTSTART:20181104T070000
END:STANDARD
BEGIN:DAYLIGHT
TZOFFSETFROM:-0600
TZOFFSETTO:-0500
TZNAME:CDT
DTSTART:20190310T080000
END:DAYLIGHT
BEGIN:STANDARD
TZOFFSETFROM:-0500
TZOFFSETTO:-0600
TZNAME:CST
DTSTART:20191103T070000
END:STANDARD
BEGIN:DAYLIGHT
TZOFFSETFROM:-0600
TZOFFSETTO:-0500
TZNAME:CDT
DTSTART:20200308T080000
END:DAYLIGHT
BEGIN:STANDARD
TZOFFSETFROM:-0500
TZOFFSETTO:-0600
TZNAME:CST
DTSTART:20201101T070000
END:STANDARD
END:VTIMEZONE
BEGIN:VTIMEZONE
TZID:America/Danmarkshavn
BEGIN:STANDARD
TZOFFSETFROM:+0000
TZOFFSETTO:+0000
TZNAME:GMT
DTSTART:20180101T000000
END:STANDARD
END:VTIMEZONE
BEGIN:VEVENT
DTSTART;TZID=America/Chicago:20191126T163000
DTEND;TZID=America/Chicago:20191126T190000
DTSTAMP:20260425T184126
CREATED:20191120T013558Z
LAST-MODIFIED:20191120T013558Z
UID:13645-1574785800-1574794800@redmidia.com
SUMMARY:Conferencia El Laboratorio como Socio Consultor en Operaciones de Granjas Lecheras
DESCRIPTION:Cupo 130 lugares \nconfiramcioneventos@gaqsa.com \n442 253-0038 ext 121
URL:https://redmidia.com/eventos/conferencia-el-laboratorio-como-socio-consultor-en-operaciones-de-granjas-lecheras/
LOCATION:Circuito El Marqués Sur 1A\, El Coloradp\, Santiago\, Querétaro\, Mexico
CATEGORIES:Ganadería
ATTACH;FMTTYPE=image/jpeg:https://redmidia.com/wp-content/uploads/2019/11/leche.jpg
END:VEVENT
BEGIN:VEVENT
DTSTART;VALUE=DATE:20191017
DTEND;VALUE=DATE:20191020
DTSTAMP:20260425T184126
CREATED:20180916T000623Z
LAST-MODIFIED:20180916T000623Z
UID:10151-1571270400-1571529599@redmidia.com
SUMMARY:Congreso Nacional de Productores Porcícolas
DESCRIPTION:
URL:https://redmidia.com/eventos/congreso-nacional-de-productores-porcicolas/
LOCATION:El complejo hotelero Grupo Vidanta\, Riviera Nayarit\, Mexico
CATEGORIES:Porcicultura
END:VEVENT
BEGIN:VEVENT
DTSTART;VALUE=DATE:20191017
DTEND;VALUE=DATE:20191020
DTSTAMP:20260425T184126
CREATED:20180916T000349Z
LAST-MODIFIED:20180916T000349Z
UID:10148-1571270400-1571529599@redmidia.com
SUMMARY:Pork-Expo AguascalientesPork-Expo Aguascalientes
DESCRIPTION:
URL:https://redmidia.com/eventos/pork-expo-aguascalientespork-expo-aguascalientes/
LOCATION:AGUASCALIENTES\, Mexico
CATEGORIES:Porcicultura
END:VEVENT
BEGIN:VEVENT
DTSTART;VALUE=DATE:20191016
DTEND;VALUE=DATE:20191020
DTSTAMP:20260425T184126
CREATED:20180916T001150Z
LAST-MODIFIED:20180916T001150Z
UID:10163-1571184000-1571529599@redmidia.com
SUMMARY:9th International Conference on Antimicrobial Agents in Veterinary Med
DESCRIPTION:
URL:https://redmidia.com/eventos/9th-international-conference-on-antimicrobial-agents-in-veterinary-med/
LOCATION:NH Villa Carpegna Via Pio IV\,6 | 00165\, Roma\, Italy
CATEGORIES:Ganadería
END:VEVENT
BEGIN:VEVENT
DTSTART;TZID=America/Chicago:20191015T080000
DTEND;TZID=America/Chicago:20191019T170000
DTSTAMP:20260425T184126
CREATED:20191008T231156Z
LAST-MODIFIED:20191008T231156Z
UID:13436-1571126400-1571504400@redmidia.com
SUMMARY:XIX Congreso Bienal AMENA 2019
DESCRIPTION:ACERCA DE \nEl tema central del congreso es “Forjando Nuevos Horizontes en Nutrición Animal”. El Congreso AMENA tiene el objetivo de promover el intercambio de conocimientos y la discusión de resultados de investigación\, validación\, y transferencia de tecnología en materia de nutrición animal y disciplinas afines. \nLa Asociación Mexicana de Especialistas en Nutrición Animal A.C. (AMENA)\, llevará a cabo la XIX edición de su Congreso Bienal del 15 al 19 de octubre de 2019\, en el Sheraton Buganvilias Resort de Puerto Vallarta\, Jalisco. El plan académico del Congreso contempla 10 simposios\, 4 conferencias magistrales plenarias y la presentación oral de trabajos de investigación científica y tecnológica con relación a los temas de cada simposio. \nVer mas en: http://www.amena.mx/
URL:https://redmidia.com/eventos/xix-congreso-bienal-amena-2019/
LOCATION:Hotel Bugambilias\, Puerto Vallarta\, Jalisco\, Mexico
CATEGORIES:Avicultura,Especiales,Ganadería,Porcicultura,Veterinaria
ATTACH;FMTTYPE=image/jpeg:https://redmidia.com/wp-content/uploads/2019/10/congreso-Bienal-AMENA.jpg
END:VEVENT
BEGIN:VEVENT
DTSTART;TZID=America/Chicago:20191008T080000
DTEND;TZID=America/Chicago:20191011T170000
DTSTAMP:20260425T184126
CREATED:20180714T032323Z
LAST-MODIFIED:20180714T032323Z
UID:9252-1570521600-1570813200@redmidia.com
SUMMARY:XXVI Congreso Latinoamericano de Avicultura OVUM 2019
DESCRIPTION:El OVUM 2019 es el 26º Congreso Latinoamericano de Avicultura que se realiza en la ciudad de Lima-Perú. Aunque las fechas todavía no aparecen en la web oficial todo apunta que será del 8 al 11 octubre 2019
URL:https://redmidia.com/eventos/xxvi-congreso-latinoamericano-de-avicultura-ovum-2019/
LOCATION:Lima\, Lima\, Peru
CATEGORIES:Avicultura
END:VEVENT
BEGIN:VEVENT
DTSTART;VALUE=DATE:20191005
DTEND;VALUE=DATE:20191010
DTSTAMP:20260425T184126
CREATED:20180916T000232Z
LAST-MODIFIED:20180916T000245Z
UID:10145-1570233600-1570665599@redmidia.com
SUMMARY:Anuga 2019
DESCRIPTION:
URL:https://redmidia.com/eventos/anuga-2019/
LOCATION:Cologna\, Germany
CATEGORIES:Porcicultura
END:VEVENT
BEGIN:VEVENT
DTSTART;VALUE=DATE:20190927
DTEND;VALUE=DATE:20191004
DTSTAMP:20260425T184126
CREATED:20180916T001030Z
LAST-MODIFIED:20180916T001030Z
UID:10160-1569542400-1570147199@redmidia.com
SUMMARY:Feria Internacional Ganadera Zafra
DESCRIPTION:
URL:https://redmidia.com/eventos/feria-internacional-ganadera-zafra/
LOCATION:Zafra\, Spain
CATEGORIES:Ganadería
END:VEVENT
BEGIN:VEVENT
DTSTART;VALUE=DATE:20190924
DTEND;VALUE=DATE:20190927
DTSTAMP:20260425T184126
CREATED:20180915T234632Z
LAST-MODIFIED:20180915T234632Z
UID:10115-1569283200-1569542399@redmidia.com
SUMMARY:Expomeat
DESCRIPTION:
URL:https://redmidia.com/eventos/expomeat/
LOCATION:Pavilhão de Exposições Anhembi\, Sao Paulo\, Brazil
CATEGORIES:Avicultura
END:VEVENT
BEGIN:VEVENT
DTSTART;TZID=America/Danmarkshavn:20190922T080000
DTEND;TZID=America/Danmarkshavn:20190926T170000
DTSTAMP:20260425T184126
CREATED:20180915T234349Z
LAST-MODIFIED:20180915T234431Z
UID:10112-1569139200-1569517200@redmidia.com
SUMMARY:IEC Global Leadership Conference Copenhagen 2019
DESCRIPTION:
URL:https://redmidia.com/eventos/iec-global-leadership-conference-copenhagen-2019/
LOCATION:Copenhagen\, Copenhagen\, Denmark
CATEGORIES:Avicultura
END:VEVENT
BEGIN:VEVENT
DTSTART;TZID=America/Chicago:20190916T080000
DTEND;TZID=America/Chicago:20190920T170000
DTSTAMP:20260425T184126
CREATED:20180714T032014Z
LAST-MODIFIED:20180714T032014Z
UID:9249-1568620800-1568998800@redmidia.com
SUMMARY:XXI WVPAC 2019 (World Veterinarian Poultry Association Congress)
DESCRIPTION:La Asociación Veterinaria de Avicultura de Tailandia\, bajo los auspicios de la Asociación Mundial de Avicultura Veterinaria\, organizará el 21° Congreso Mundial de Avicultura Aviar o WVPAC 2019 del 16 al 20 de septiembre de 2019 en el Centro Internacional de Comercio y Exhibición de Bangkok\, Tailandia.
URL:https://redmidia.com/eventos/xxi-wvpac-2019-world-veterinarian-poultry-association-congress/
LOCATION:Centro Internacional de Comercio y Exhibición\, Bangkok\, Thailand
CATEGORIES:Avicultura
END:VEVENT
BEGIN:VEVENT
DTSTART;VALUE=DATE:20190827
DTEND;VALUE=DATE:20190830
DTSTAMP:20260425T184126
CREATED:20180929T122452Z
LAST-MODIFIED:20180929T123338Z
UID:10339-1566864000-1567123199@redmidia.com
SUMMARY:SIAVS\, Salón Internacional de Avicultura y Porcicultura 2019
DESCRIPTION:
URL:https://redmidia.com/eventos/siavs-salon-internacional-de-avicultura-y-porcicultura-2019/
LOCATION:Anhembi Parque\, Sao Paulo\, Brazil
CATEGORIES:Avicultura,Porcicultura
END:VEVENT
BEGIN:VEVENT
DTSTART;VALUE=DATE:20190825
DTEND;VALUE=DATE:20190829
DTSTAMP:20260425T184126
CREATED:20180916T000132Z
LAST-MODIFIED:20180916T000132Z
UID:10142-1566691200-1567036799@redmidia.com
SUMMARY:Asian Pig Veterinary Society Congress 2019
DESCRIPTION:
URL:https://redmidia.com/eventos/asian-pig-veterinary-society-congress-2019/
LOCATION:BUSAN\, Korea\, Republic of
CATEGORIES:Porcicultura
END:VEVENT
BEGIN:VEVENT
DTSTART;TZID=America/Chicago:20190623T080000
DTEND;TZID=America/Chicago:20190626T170000
DTSTAMP:20260425T184126
CREATED:20180714T031547Z
LAST-MODIFIED:20180714T031547Z
UID:9246-1561276800-1561568400@redmidia.com
SUMMARY:XXIV European Symposium on the Quality of Poultry Meat and XVIII European Symposium on the Quality of Eggs and Egg Products
DESCRIPTION:XXIV European Symposium on the Quality of Poultry Meat and XVIII European Symposium on the Quality of Eggs and Egg Products Dear Friends\, On behalf of the Turkish Branch of WPSA…
URL:https://redmidia.com/eventos/xxiv-european-symposium-on-the-quality-of-poultry-meat-and-xviii-european-symposium-on-the-quality-of-eggs-and-egg-products/
LOCATION:Çeşme\, Çeşme\, Turkey
END:VEVENT
BEGIN:VEVENT
DTSTART;TZID=America/Chicago:20190610T080000
DTEND;TZID=America/Chicago:20190613T170000
DTSTAMP:20260425T184126
CREATED:20180714T031257Z
LAST-MODIFIED:20180714T031257Z
UID:9243-1560153600-1560445200@redmidia.com
SUMMARY:22nd ESPN Gdansk (European Symposium on Poultry Nutrition)
DESCRIPTION:El 22º Simposio Europeo de Nutrición Avícola (ESPN) se llevará a cabo del 10 al 13 de junio de 2019 en la AmberExpo en Gdańsk (Polonia). El Organizador del Simposio es la filial polaca de la Asociación Mundial de Ciencias Avícolas (PO WPSA)
URL:https://redmidia.com/eventos/22nd-espn-gdansk-european-symposium-on-poultry-nutrition/
LOCATION:Gdańsk\, Gdańsk\, Poland
CATEGORIES:Avicultura
END:VEVENT
BEGIN:VEVENT
DTSTART;VALUE=DATE:20190605
DTEND;VALUE=DATE:20190608
DTSTAMP:20260425T184126
CREATED:20180915T235959Z
LAST-MODIFIED:20180915T235959Z
UID:10139-1559692800-1559951999@redmidia.com
SUMMARY:World Pork Expo 2019
DESCRIPTION:
URL:https://redmidia.com/eventos/world-pork-expo-2019/
LOCATION:IOWA STATE FAIRGROUNDS\, DES MOINES\, IA\, United States
CATEGORIES:Porcicultura
END:VEVENT
BEGIN:VEVENT
DTSTART;VALUE=DATE:20190527
DTEND;VALUE=DATE:20190601
DTSTAMP:20260425T184126
CREATED:20180929T123105Z
LAST-MODIFIED:20180929T123105Z
UID:10352-1558915200-1559347199@redmidia.com
SUMMARY:VIII Seminario Internacional Porcicultura Tropical 2019
DESCRIPTION:
URL:https://redmidia.com/eventos/viii-seminario-internacional-porcicultura-tropical-2019/
LOCATION:La Habana\, La Habana\, Cuba
CATEGORIES:Porcicultura
END:VEVENT
BEGIN:VEVENT
DTSTART;VALUE=DATE:20190522
DTEND;VALUE=DATE:20190525
DTSTAMP:20260425T184126
CREATED:20180915T235827Z
LAST-MODIFIED:20180915T235827Z
UID:10136-1558483200-1558742399@redmidia.com
SUMMARY:11th European Symposium of Porcine Health Management (ESPHM 2019)
DESCRIPTION:
URL:https://redmidia.com/eventos/11th-european-symposium-of-porcine-health-management-esphm-2019/
LOCATION:Utrecht\, Netherlands
END:VEVENT
BEGIN:VEVENT
DTSTART;VALUE=DATE:20190520
DTEND;VALUE=DATE:20190523
DTSTAMP:20260425T184126
CREATED:20180915T235648Z
LAST-MODIFIED:20180915T235709Z
UID:10133-1558310400-1558569599@redmidia.com
SUMMARY:Polagra Food
DESCRIPTION:
URL:https://redmidia.com/eventos/polagra-food/
LOCATION:Polonia\, Poland
CATEGORIES:Porcicultura
END:VEVENT
BEGIN:VEVENT
DTSTART;VALUE=DATE:20190506
DTEND;VALUE=DATE:20190510
DTSTAMP:20260425T184126
CREATED:20180915T235457Z
LAST-MODIFIED:20180915T235457Z
UID:10130-1557100800-1557446399@redmidia.com
SUMMARY:Tuttofood 2019
DESCRIPTION:
URL:https://redmidia.com/eventos/tuttofood-2019/
LOCATION:FIERA\, Milano\, Italy
CATEGORIES:Porcicultura
END:VEVENT
BEGIN:VEVENT
DTSTART;VALUE=DATE:20190403
DTEND;VALUE=DATE:20190407
DTSTAMP:20260425T184126
CREATED:20180929T122317Z
LAST-MODIFIED:20180929T122317Z
UID:10337-1554249600-1554595199@redmidia.com
SUMMARY:XLIV Congreso Anual ANECA 2019
DESCRIPTION:
URL:https://redmidia.com/eventos/xliv-congreso-anual-aneca-2019/
LOCATION:Hotel Sheraton Buganvilias Resort & Towers\, Jalisco\, Puerto Vallarta\, Mexico
CATEGORIES:Avicultura
END:VEVENT
BEGIN:VEVENT
DTSTART;VALUE=DATE:20190403
DTEND;VALUE=DATE:20190410
DTSTAMP:20260425T184126
CREATED:20180929T121251Z
LAST-MODIFIED:20180929T121307Z
UID:10316-1554249600-1554854399@redmidia.com
SUMMARY:Western Poultry Disease Conference
DESCRIPTION:
URL:https://redmidia.com/eventos/western-poultry-disease-conference/
LOCATION:Hotel Sheraton Buganvilias Resort & Towers\, Jalisco\, Puerto Vallarta\, Mexico
CATEGORIES:Avicultura
END:VEVENT
BEGIN:VEVENT
DTSTART;TZID=America/Chicago:20190319T080000
DTEND;TZID=America/Chicago:20190322T170000
DTSTAMP:20260425T184126
CREATED:20180714T030926Z
LAST-MODIFIED:20180915T234847Z
UID:9240-1552982400-1553274000@redmidia.com
SUMMARY:FIGAN 2019
DESCRIPTION:El salón agropecuario aragonés se consolida como líder de su sector en el panorama nacional e internacional\, caracterizándose como un certamen muy profesional y de referencia para las firmas ganaderas. Aunque Feria de Zaragoza ya ha empezado a trabajar para la próxima edición de la Feria Internacional para la Producción Animal 2019\, aún las fechas aún están por confirmar.
URL:https://redmidia.com/eventos/figan-2019/
LOCATION:Zaragoza\, Zaragoza\, Spain
CATEGORIES:Avicultura,Ganadería
END:VEVENT
BEGIN:VEVENT
DTSTART;TZID=America/Chicago:20190319T080000
DTEND;TZID=America/Chicago:20190322T170000
DTSTAMP:20260425T184126
CREATED:20180714T030505Z
LAST-MODIFIED:20180714T030505Z
UID:9237-1552982400-1553274000@redmidia.com
SUMMARY:VIV Asia 2019
DESCRIPTION:Con más de 1.000 expositores internacionales\, VIV Asia 2019 ofrece una selección única\, que comprende líderes del mercado mundial y asiáticos regionales y nacionales de importancia creciente.
URL:https://redmidia.com/eventos/viv-asia-2019/
LOCATION:Bangkok\, Bangkok\, Thailand
CATEGORIES:Avicultura,Ganadería,Porcicultura,Veterinaria
END:VEVENT
BEGIN:VEVENT
DTSTART;VALUE=DATE:20190312
DTEND;VALUE=DATE:20190315
DTSTAMP:20260425T184126
CREATED:20180929T122134Z
LAST-MODIFIED:20180929T122134Z
UID:10334-1552348800-1552607999@redmidia.com
SUMMARY:Décimo Segundo Congreso Internacional AVEM 2019
DESCRIPTION:
URL:https://redmidia.com/eventos/decimo-segundo-congreso-internacional-avem-2019/
LOCATION:Hotel Misión Grand Juriquilla\, Querétaro\, Mexico
CATEGORIES:Avicultura
END:VEVENT
BEGIN:VEVENT
DTSTART;VALUE=DATE:20190309
DTEND;VALUE=DATE:20190313
DTSTAMP:20260425T184126
CREATED:20180915T235311Z
LAST-MODIFIED:20180915T235330Z
UID:10127-1552089600-1552435199@redmidia.com
SUMMARY:50th AASV Annual Meeting!
DESCRIPTION:
URL:https://redmidia.com/eventos/50th-aasv-annual-meeting/
LOCATION:Hilton Orlando Buena Vista Palace\, Lake Buena Vista\, Florida\, United States
END:VEVENT
BEGIN:VEVENT
DTSTART;VALUE=DATE:20190305
DTEND;VALUE=DATE:20190308
DTSTAMP:20260425T184126
CREATED:20180929T122850Z
LAST-MODIFIED:20180929T122850Z
UID:10347-1551744000-1552003199@redmidia.com
SUMMARY:Expo ANTAD y Alimentaria México 2019
DESCRIPTION:
URL:https://redmidia.com/eventos/expo-antad-y-alimentaria-mexico-2019/
LOCATION:Expo Guadalajara\, Verde Valle\, Guadalajara\, Jalisco\, Mexico
CATEGORIES:Ganadería
END:VEVENT
BEGIN:VEVENT
DTSTART;VALUE=DATE:20190226
DTEND;VALUE=DATE:20190301
DTSTAMP:20260425T184126
CREATED:20180929T122736Z
LAST-MODIFIED:20180929T122736Z
UID:10344-1551139200-1551398399@redmidia.com
SUMMARY:Expo Carnes y Lácteos 2019
DESCRIPTION:
URL:https://redmidia.com/eventos/expo-carnes-y-lacteos-2019/
LOCATION:Centro Internacional de Negocios\, CINTERMEX\, Monterrey\, Mexico
CATEGORIES:Ganadería
END:VEVENT
BEGIN:VEVENT
DTSTART;TZID=America/Chicago:20190221T080000
DTEND;TZID=America/Chicago:20190222T170000
DTSTAMP:20260425T184126
CREATED:20180803T172243Z
LAST-MODIFIED:20180803T172243Z
UID:9613-1550736000-1550854800@redmidia.com
SUMMARY:XIV Congreso Internacional de Reproducción Porcina
DESCRIPTION:
URL:https://redmidia.com/eventos/xiv-congreso-internacional-de-reproduccion-porcina/
LOCATION:Centro de Convenciones y Exposiciones Plaza Mayor de Medellín\, Medellín\, Colombia
CATEGORIES:Porcicultura
END:VEVENT
BEGIN:VEVENT
DTSTART;VALUE=DATE:20190221
DTEND;VALUE=DATE:20190223
DTSTAMP:20260425T184126
CREATED:20180915T235145Z
LAST-MODIFIED:20180915T235145Z
UID:10124-1550707200-1550879999@redmidia.com
SUMMARY:XIV Congreso Internacional de Reproducción Porcina - Dr. Santiago Martín Rillo
DESCRIPTION:
URL:https://redmidia.com/eventos/xiv-congreso-internacional-de-reproduccion-porcina-dr-santiago-martin-rillo/
LOCATION:Auditorio Plaza Mayor\, Medellin\, Colombia
CATEGORIES:Porcicultura
END:VEVENT
END:VCALENDAR